BEGIN:VCALENDAR
VERSION:2.0
PRODID:-//Urban League of Union County - ECPv6.15.20//NONSGML v1.0//EN
CALSCALE:GREGORIAN
METHOD:PUBLISH
X-ORIGINAL-URL:https://uloucnj.org
X-WR-CALDESC:Events for Urban League of Union County
REFRESH-INTERVAL;VALUE=DURATION:PT1H
X-Robots-Tag:noindex
X-PUBLISHED-TTL:PT1H
BEGIN:VTIMEZONE
TZID:America/New_York
BEGIN:DAYLIGHT
TZOFFSETFROM:-0500
TZOFFSETTO:-0400
TZNAME:EDT
DTSTART:20240310T070000
END:DAYLIGHT
BEGIN:STANDARD
TZOFFSETFROM:-0400
TZOFFSETTO:-0500
TZNAME:EST
DTSTART:20241103T060000
END:STANDARD
BEGIN:DAYLIGHT
TZOFFSETFROM:-0500
TZOFFSETTO:-0400
TZNAME:EDT
DTSTART:20250309T070000
END:DAYLIGHT
BEGIN:STANDARD
TZOFFSETFROM:-0400
TZOFFSETTO:-0500
TZNAME:EST
DTSTART:20251102T060000
END:STANDARD
BEGIN:DAYLIGHT
TZOFFSETFROM:-0500
TZOFFSETTO:-0400
TZNAME:EDT
DTSTART:20260308T070000
END:DAYLIGHT
BEGIN:STANDARD
TZOFFSETFROM:-0400
TZOFFSETTO:-0500
TZNAME:EST
DTSTART:20261101T060000
END:STANDARD
END:VTIMEZONE
BEGIN:VEVENT
DTSTART;TZID=America/New_York:20250201T120000
DTEND;TZID=America/New_York:20250202T000000
DTSTAMP:20260422T071646
CREATED:20250207T161030Z
LAST-MODIFIED:20250207T162555Z
UID:490-1738411200-1738454400@uloucnj.org
SUMMARY:2025 Black Business Owners Expo – Plainfield\, NJ (Feb 1-2)
DESCRIPTION:The 2025 Black Business Owners Expo is a premier networking and business growth event for Black entrepreneurs\, professionals\, and community leaders. This two-day event\, themed “Black Wall Street 2025\,” will highlight over 40 vendors\, panel discussions\, networking opportunities\, and food to support and elevate Black-owned businesses. \n📅 Date: \n\nSaturday\, February 1\, 2025 – Business Networking Forum (12:00 PM – 2:00 PM)\nSunday\, February 2\, 2025 – Worship Service (9:00 AM)\, Business Expo (11:00 AM – 2:00 PM)\n\n📍 Location: Shiloh Baptist Church\, 515 W 4th St\, Plainfield\, NJ \n🌟 Event Highlights:\n✅ Business Networking Forum – Connect with entrepreneurs & professionals\n✅ Black-Owned Business Vendors – Showcasing products & services\n✅ Panel Discussions – Expert insights on growth & success\n✅ Worship Service – A spiritual start to business empowerment\n✅ Food & More – Enjoy community\, culture\, and commerce \nThis event is hosted by the Urban League of Union County in collaboration with local partners. Register today to attend or become a vendor! \n 
URL:https://uloucnj.org/event/2025-black-business-owners-expo-plainfield-nj-feb-1-2/
LOCATION:Shiloh Baptist Church\, 515 W. 4th St\, Plainfield\, NJ\, United States
CATEGORIES:ULOUC Events
ATTACH;FMTTYPE=image/jpeg:https://uloucnj.org/wp-content/uploads/2025/02/black-business-owners-expo-2025-featured.jpg
END:VEVENT
END:VCALENDAR